BEGIN:VCALENDAR
VERSION:2.0
PRODID:-//Liverpool Disabled Supporters Association - ECPv6.15.14//NONSGML v1.0//EN
CALSCALE:GREGORIAN
METHOD:PUBLISH
X-ORIGINAL-URL:https://liverpooldsa.co.uk
X-WR-CALDESC:Events for Liverpool Disabled Supporters Association
REFRESH-INTERVAL;VALUE=DURATION:PT1H
X-Robots-Tag:noindex
X-PUBLISHED-TTL:PT1H
BEGIN:VTIMEZONE
TZID:Europe/London
BEGIN:DAYLIGHT
TZOFFSETFROM:+0000
TZOFFSETTO:+0100
TZNAME:BST
DTSTART:20190331T010000
END:DAYLIGHT
BEGIN:STANDARD
TZOFFSETFROM:+0100
TZOFFSETTO:+0000
TZNAME:GMT
DTSTART:20191027T010000
END:STANDARD
BEGIN:DAYLIGHT
TZOFFSETFROM:+0000
TZOFFSETTO:+0100
TZNAME:BST
DTSTART:20200329T010000
END:DAYLIGHT
BEGIN:STANDARD
TZOFFSETFROM:+0100
TZOFFSETTO:+0000
TZNAME:GMT
DTSTART:20201025T010000
END:STANDARD
BEGIN:DAYLIGHT
TZOFFSETFROM:+0000
TZOFFSETTO:+0100
TZNAME:BST
DTSTART:20210328T010000
END:DAYLIGHT
BEGIN:STANDARD
TZOFFSETFROM:+0100
TZOFFSETTO:+0000
TZNAME:GMT
DTSTART:20211031T010000
END:STANDARD
END:VTIMEZONE
BEGIN:VEVENT
DTSTART;TZID=Europe/London:20201006T180000
DTEND;TZID=Europe/London:20201006T190000
DTSTAMP:20260422T203448
CREATED:20200917T174118Z
LAST-MODIFIED:20201029T122150Z
UID:4589-1602007200-1602010800@liverpooldsa.co.uk
SUMMARY:Learning Disability Football (ages 8-16)
DESCRIPTION:For full details visit the LFC Foundation website. Please note it is essential that you book prior to your session.
URL:https://liverpooldsa.co.uk/event_details/learning-disability-football-ages-8-16-2020-10-06/
LOCATION:Anfield Sports and Community Centre\, Lower Breck Road\, Liverpool\, Merseyside\, L6 0AE\, United Kingdom
CATEGORIES:LFC Foundation Event
ATTACH;FMTTYPE=image/jpeg:https://liverpooldsa.co.uk/wp-content/uploads/2020/02/foundation.jpg
END:VEVENT
BEGIN:VEVENT
DTSTART;TZID=Europe/London:20201005T200000
DTEND;TZID=Europe/London:20201005T210000
DTSTAMP:20260422T203448
CREATED:20200917T173749Z
LAST-MODIFIED:20201029T122848Z
UID:4594-1601928000-1601931600@liverpooldsa.co.uk
SUMMARY:PAN Disability / Ability Counts Football (age 14+)
DESCRIPTION:For full details visit the LFC Foundation website. Please note it is essential that you book prior to your session.
URL:https://liverpooldsa.co.uk/event_details/pan-disability-ability-counts-football-age-14-2020-10-05/
LOCATION:Anfield Sports and Community Centre\, Lower Breck Road\, Liverpool\, Merseyside\, L6 0AE\, United Kingdom
CATEGORIES:LFC Foundation Event
ATTACH;FMTTYPE=image/jpeg:https://liverpooldsa.co.uk/wp-content/uploads/2020/02/foundation.jpg
END:VEVENT
BEGIN:VEVENT
DTSTART;TZID=Europe/London:20201005T180000
DTEND;TZID=Europe/London:20201005T190000
DTSTAMP:20260422T203448
CREATED:20200917T173529Z
LAST-MODIFIED:20201029T122005Z
UID:4599-1601920800-1601924400@liverpooldsa.co.uk
SUMMARY:PAN Disability / Ability Counts Football (ages 8-14)
DESCRIPTION:For full details visit the LFC Foundation website. Please note it is essential that you book prior to your session.
URL:https://liverpooldsa.co.uk/event_details/pan-disability-ability-counts-football-age-8-14-2020-10-05/
LOCATION:Anfield Sports and Community Centre\, Lower Breck Road\, Liverpool\, Merseyside\, L6 0AE\, United Kingdom
CATEGORIES:LFC Foundation Event
ATTACH;FMTTYPE=image/jpeg:https://liverpooldsa.co.uk/wp-content/uploads/2020/02/foundation.jpg
END:VEVENT
BEGIN:VEVENT
DTSTART;TZID=Europe/London:20201003T113000
DTEND;TZID=Europe/London:20201003T123000
DTSTAMP:20260422T203448
CREATED:20200917T175325Z
LAST-MODIFIED:20201029T122102Z
UID:4453-1601724600-1601728200@liverpooldsa.co.uk
SUMMARY:PAN Disability / Ability Counts Football (age 8+ including adults)
DESCRIPTION:For full details visit the LFC Foundation website. Please note it is essential that you book prior to your session.
URL:https://liverpooldsa.co.uk/event_details/pan-disability-ability-counts-football-age-8-including-adults-2020-10-03/
LOCATION:Woodchurch Sports Complex\, Carr Bridge Road\, Birkenhead\, Wirral\, CH49 8EU
CATEGORIES:LFC Foundation Event
ATTACH;FMTTYPE=image/jpeg:https://liverpooldsa.co.uk/wp-content/uploads/2020/02/foundation.jpg
END:VEVENT
BEGIN:VEVENT
DTSTART;TZID=Europe/London:20201003T103000
DTEND;TZID=Europe/London:20201003T113000
DTSTAMP:20260422T203448
CREATED:20200917T175122Z
LAST-MODIFIED:20201029T122955Z
UID:4458-1601721000-1601724600@liverpooldsa.co.uk
SUMMARY:Learning Disability Football (ages 6-16)
DESCRIPTION:For full details visit the LFC Foundation website. Please note it is essential that you book prior to your session.
URL:https://liverpooldsa.co.uk/event_details/learning-disability-football-ages-6-16-2020-10-03/
LOCATION:Woodchurch Sports Complex\, Carr Bridge Road\, Birkenhead\, Wirral\, CH49 8EU
CATEGORIES:LFC Foundation Event
ATTACH;FMTTYPE=image/jpeg:https://liverpooldsa.co.uk/wp-content/uploads/2020/02/foundation.jpg
END:VEVENT
BEGIN:VEVENT
DTSTART;TZID=Europe/London:20201002T180000
DTEND;TZID=Europe/London:20201002T190000
DTSTAMP:20260422T203448
CREATED:20200917T174759Z
LAST-MODIFIED:20201029T122531Z
UID:4567-1601661600-1601665200@liverpooldsa.co.uk
SUMMARY:Wheelchair Football Session (age 6+)
DESCRIPTION:For full details visit the LFC Foundation website. Please note it is essential that you book prior to your session.
URL:https://liverpooldsa.co.uk/event_details/wheelchair-football-session-age-6-2020-10-02/
LOCATION:Anfield Sports and Community Centre\, Lower Breck Road\, Liverpool\, Merseyside\, L6 0AE\, United Kingdom
CATEGORIES:LFC Foundation Event
ATTACH;FMTTYPE=image/jpeg:https://liverpooldsa.co.uk/wp-content/uploads/2020/02/foundation.jpg
END:VEVENT
BEGIN:VEVENT
DTSTART;TZID=Europe/London:20201001T190000
DTEND;TZID=Europe/London:20201001T200000
DTSTAMP:20260422T203448
CREATED:20200917T174603Z
LAST-MODIFIED:20201029T122440Z
UID:4572-1601578800-1601582400@liverpooldsa.co.uk
SUMMARY:Physical Impairment Football Session (age 14+)
DESCRIPTION:For full details visit the LFC Foundation website. Please note it is essential that you book prior to your session.
URL:https://liverpooldsa.co.uk/event_details/physical-impairment-football-session-2020-10-01/
LOCATION:Anfield Sports and Community Centre\, Lower Breck Road\, Liverpool\, Merseyside\, L6 0AE\, United Kingdom
CATEGORIES:LFC Foundation Event
ATTACH;FMTTYPE=image/jpeg:https://liverpooldsa.co.uk/wp-content/uploads/2020/02/foundation.jpg
END:VEVENT
BEGIN:VEVENT
DTSTART;TZID=Europe/London:20201001T180000
DTEND;TZID=Europe/London:20201001T190000
DTSTAMP:20260422T203448
CREATED:20200917T174446Z
LAST-MODIFIED:20201029T122344Z
UID:4578-1601575200-1601578800@liverpooldsa.co.uk
SUMMARY:Open Disability Session (ages 5-8)
DESCRIPTION:For full details visit the LFC Foundation website. Please note it is essential that you book prior to your session.
URL:https://liverpooldsa.co.uk/event_details/open-disability-session-ages-5-8-2020-10-01/
LOCATION:Anfield Sports and Community Centre\, Lower Breck Road\, Liverpool\, Merseyside\, L6 0AE\, United Kingdom
CATEGORIES:LFC Foundation Event
ATTACH;FMTTYPE=image/jpeg:https://liverpooldsa.co.uk/wp-content/uploads/2020/02/foundation.jpg
END:VEVENT
BEGIN:VEVENT
DTSTART;TZID=Europe/London:20200929T190000
DTEND;TZID=Europe/London:20200929T200000
DTSTAMP:20260422T203448
CREATED:20200917T174254Z
LAST-MODIFIED:20201029T122227Z
UID:4583-1601406000-1601409600@liverpooldsa.co.uk
SUMMARY:Learning Disability Football (age 16+)
DESCRIPTION:For full details visit the LFC Foundation website. Please note it is essential that you book prior to your session.
URL:https://liverpooldsa.co.uk/event_details/learning-disability-football-age-16-2020-09-29/
LOCATION:Anfield Sports and Community Centre\, Lower Breck Road\, Liverpool\, Merseyside\, L6 0AE\, United Kingdom
CATEGORIES:LFC Foundation Event
ATTACH;FMTTYPE=image/jpeg:https://liverpooldsa.co.uk/wp-content/uploads/2020/02/foundation.jpg
END:VEVENT
BEGIN:VEVENT
DTSTART;TZID=Europe/London:20200929T180000
DTEND;TZID=Europe/London:20200929T190000
DTSTAMP:20260422T203448
CREATED:20200917T174118Z
LAST-MODIFIED:20201029T122150Z
UID:4588-1601402400-1601406000@liverpooldsa.co.uk
SUMMARY:Learning Disability Football (ages 8-16)
DESCRIPTION:For full details visit the LFC Foundation website. Please note it is essential that you book prior to your session.
URL:https://liverpooldsa.co.uk/event_details/learning-disability-football-ages-8-16-2020-09-29/
LOCATION:Anfield Sports and Community Centre\, Lower Breck Road\, Liverpool\, Merseyside\, L6 0AE\, United Kingdom
CATEGORIES:LFC Foundation Event
ATTACH;FMTTYPE=image/jpeg:https://liverpooldsa.co.uk/wp-content/uploads/2020/02/foundation.jpg
END:VEVENT
BEGIN:VEVENT
DTSTART;TZID=Europe/London:20200928T200000
DTEND;TZID=Europe/London:20200928T210000
DTSTAMP:20260422T203448
CREATED:20200917T173749Z
LAST-MODIFIED:20201029T122848Z
UID:4593-1601323200-1601326800@liverpooldsa.co.uk
SUMMARY:PAN Disability / Ability Counts Football (age 14+)
DESCRIPTION:For full details visit the LFC Foundation website. Please note it is essential that you book prior to your session.
URL:https://liverpooldsa.co.uk/event_details/pan-disability-ability-counts-football-age-14-2020-09-28/
LOCATION:Anfield Sports and Community Centre\, Lower Breck Road\, Liverpool\, Merseyside\, L6 0AE\, United Kingdom
CATEGORIES:LFC Foundation Event
ATTACH;FMTTYPE=image/jpeg:https://liverpooldsa.co.uk/wp-content/uploads/2020/02/foundation.jpg
END:VEVENT
BEGIN:VEVENT
DTSTART;TZID=Europe/London:20200928T180000
DTEND;TZID=Europe/London:20200928T190000
DTSTAMP:20260422T203448
CREATED:20200917T173529Z
LAST-MODIFIED:20201029T122005Z
UID:4598-1601316000-1601319600@liverpooldsa.co.uk
SUMMARY:PAN Disability / Ability Counts Football (ages 8-14)
DESCRIPTION:For full details visit the LFC Foundation website. Please note it is essential that you book prior to your session.
URL:https://liverpooldsa.co.uk/event_details/pan-disability-ability-counts-football-age-8-14-2020-09-28/
LOCATION:Anfield Sports and Community Centre\, Lower Breck Road\, Liverpool\, Merseyside\, L6 0AE\, United Kingdom
CATEGORIES:LFC Foundation Event
ATTACH;FMTTYPE=image/jpeg:https://liverpooldsa.co.uk/wp-content/uploads/2020/02/foundation.jpg
END:VEVENT
BEGIN:VEVENT
DTSTART;TZID=Europe/London:20200926T113000
DTEND;TZID=Europe/London:20200926T123000
DTSTAMP:20260422T203448
CREATED:20200917T175325Z
LAST-MODIFIED:20201029T122101Z
UID:4313-1601119800-1601123400@liverpooldsa.co.uk
SUMMARY:PAN Disability / Ability Counts Football (age 8+ including adults)
DESCRIPTION:For full details visit the LFC Foundation website. Please note it is essential that you book prior to your session.
URL:https://liverpooldsa.co.uk/event_details/pan-disability-ability-counts-football-age-8-including-adults/
LOCATION:Woodchurch Sports Complex\, Carr Bridge Road\, Birkenhead\, Wirral\, CH49 8EU
CATEGORIES:LFC Foundation Event
ATTACH;FMTTYPE=image/jpeg:https://liverpooldsa.co.uk/wp-content/uploads/2020/02/foundation.jpg
END:VEVENT
BEGIN:VEVENT
DTSTART;TZID=Europe/London:20200926T103000
DTEND;TZID=Europe/London:20200926T113000
DTSTAMP:20260422T203448
CREATED:20200917T175122Z
LAST-MODIFIED:20201029T122954Z
UID:4311-1601116200-1601119800@liverpooldsa.co.uk
SUMMARY:Learning Disability Football (ages 6-16)
DESCRIPTION:For full details visit the LFC Foundation website. Please note it is essential that you book prior to your session.
URL:https://liverpooldsa.co.uk/event_details/learning-disability-football-ages-6-16/
LOCATION:Woodchurch Sports Complex\, Carr Bridge Road\, Birkenhead\, Wirral\, CH49 8EU
CATEGORIES:LFC Foundation Event
ATTACH;FMTTYPE=image/jpeg:https://liverpooldsa.co.uk/wp-content/uploads/2020/02/foundation.jpg
END:VEVENT
BEGIN:VEVENT
DTSTART;TZID=Europe/London:20200925T180000
DTEND;TZID=Europe/London:20200925T190000
DTSTAMP:20260422T203448
CREATED:20200917T174759Z
LAST-MODIFIED:20201029T122531Z
UID:4308-1601056800-1601060400@liverpooldsa.co.uk
SUMMARY:Wheelchair Football Session (age 6+)
DESCRIPTION:For full details visit the LFC Foundation website. Please note it is essential that you book prior to your session.
URL:https://liverpooldsa.co.uk/event_details/wheelchair-football-session-age-6/
LOCATION:Anfield Sports and Community Centre\, Lower Breck Road\, Liverpool\, Merseyside\, L6 0AE\, United Kingdom
CATEGORIES:LFC Foundation Event
ATTACH;FMTTYPE=image/jpeg:https://liverpooldsa.co.uk/wp-content/uploads/2020/02/foundation.jpg
END:VEVENT
BEGIN:VEVENT
DTSTART;TZID=Europe/London:20200924T190000
DTEND;TZID=Europe/London:20200924T200000
DTSTAMP:20260422T203448
CREATED:20200917T174603Z
LAST-MODIFIED:20201029T122439Z
UID:4306-1600974000-1600977600@liverpooldsa.co.uk
SUMMARY:Physical Impairment Football Session (age 14+)
DESCRIPTION:For full details visit the LFC Foundation website. Please note it is essential that you book prior to your session.
URL:https://liverpooldsa.co.uk/event_details/physical-impairment-football-session/
LOCATION:Anfield Sports and Community Centre\, Lower Breck Road\, Liverpool\, Merseyside\, L6 0AE\, United Kingdom
CATEGORIES:LFC Foundation Event
ATTACH;FMTTYPE=image/jpeg:https://liverpooldsa.co.uk/wp-content/uploads/2020/02/foundation.jpg
END:VEVENT
BEGIN:VEVENT
DTSTART;TZID=Europe/London:20200924T180000
DTEND;TZID=Europe/London:20200924T190000
DTSTAMP:20260422T203448
CREATED:20200917T174446Z
LAST-MODIFIED:20201029T122343Z
UID:4304-1600970400-1600974000@liverpooldsa.co.uk
SUMMARY:Open Disability Session (ages 5-8)
DESCRIPTION:For full details visit the LFC Foundation website. Please note it is essential that you book prior to your session.
URL:https://liverpooldsa.co.uk/event_details/open-disability-session-ages-5-8/
LOCATION:Anfield Sports and Community Centre\, Lower Breck Road\, Liverpool\, Merseyside\, L6 0AE\, United Kingdom
CATEGORIES:LFC Foundation Event
ATTACH;FMTTYPE=image/jpeg:https://liverpooldsa.co.uk/wp-content/uploads/2020/02/foundation.jpg
END:VEVENT
BEGIN:VEVENT
DTSTART;TZID=Europe/London:20200922T190000
DTEND;TZID=Europe/London:20200922T200000
DTSTAMP:20260422T203448
CREATED:20200917T174254Z
LAST-MODIFIED:20201029T122226Z
UID:4302-1600801200-1600804800@liverpooldsa.co.uk
SUMMARY:Learning Disability Football (age 16+)
DESCRIPTION:For full details visit the LFC Foundation website. Please note it is essential that you book prior to your session.
URL:https://liverpooldsa.co.uk/event_details/learning-disability-football-age-16/
LOCATION:Anfield Sports and Community Centre\, Lower Breck Road\, Liverpool\, Merseyside\, L6 0AE\, United Kingdom
CATEGORIES:LFC Foundation Event
ATTACH;FMTTYPE=image/jpeg:https://liverpooldsa.co.uk/wp-content/uploads/2020/02/foundation.jpg
END:VEVENT
BEGIN:VEVENT
DTSTART;TZID=Europe/London:20200922T180000
DTEND;TZID=Europe/London:20200922T190000
DTSTAMP:20260422T203449
CREATED:20200917T174118Z
LAST-MODIFIED:20201029T122149Z
UID:4300-1600797600-1600801200@liverpooldsa.co.uk
SUMMARY:Learning Disability Football (ages 8-16)
DESCRIPTION:For full details visit the LFC Foundation website. Please note it is essential that you book prior to your session.
URL:https://liverpooldsa.co.uk/event_details/learning-disability-football-ages-8-16/
LOCATION:Anfield Sports and Community Centre\, Lower Breck Road\, Liverpool\, Merseyside\, L6 0AE\, United Kingdom
CATEGORIES:LFC Foundation Event
ATTACH;FMTTYPE=image/jpeg:https://liverpooldsa.co.uk/wp-content/uploads/2020/02/foundation.jpg
END:VEVENT
BEGIN:VEVENT
DTSTART;TZID=Europe/London:20200921T200000
DTEND;TZID=Europe/London:20200921T210000
DTSTAMP:20260422T203449
CREATED:20200917T173749Z
LAST-MODIFIED:20201029T122847Z
UID:4296-1600718400-1600722000@liverpooldsa.co.uk
SUMMARY:PAN Disability / Ability Counts Football (age 14+)
DESCRIPTION:For full details visit the LFC Foundation website. Please note it is essential that you book prior to your session.
URL:https://liverpooldsa.co.uk/event_details/pan-disability-ability-counts-football-age-14/
LOCATION:Anfield Sports and Community Centre\, Lower Breck Road\, Liverpool\, Merseyside\, L6 0AE\, United Kingdom
CATEGORIES:LFC Foundation Event
ATTACH;FMTTYPE=image/jpeg:https://liverpooldsa.co.uk/wp-content/uploads/2020/02/foundation.jpg
END:VEVENT
BEGIN:VEVENT
DTSTART;TZID=Europe/London:20200921T180000
DTEND;TZID=Europe/London:20200921T190000
DTSTAMP:20260422T203449
CREATED:20200917T173529Z
LAST-MODIFIED:20201029T122004Z
UID:4294-1600711200-1600714800@liverpooldsa.co.uk
SUMMARY:PAN Disability / Ability Counts Football (ages 8-14)
DESCRIPTION:For full details visit the LFC Foundation website. Please note it is essential that you book prior to your session.
URL:https://liverpooldsa.co.uk/event_details/pan-disability-ability-counts-football-age-8-14/
LOCATION:Anfield Sports and Community Centre\, Lower Breck Road\, Liverpool\, Merseyside\, L6 0AE\, United Kingdom
CATEGORIES:LFC Foundation Event
ATTACH;FMTTYPE=image/jpeg:https://liverpooldsa.co.uk/wp-content/uploads/2020/02/foundation.jpg
END:VEVENT
END:VCALENDAR