BEGIN:VCALENDAR
VERSION:2.0
PRODID:-//Liverpool Disabled Supporters Association - ECPv6.15.14//NONSGML v1.0//EN
CALSCALE:GREGORIAN
METHOD:PUBLISH
X-WR-CALNAME:Liverpool Disabled Supporters Association
X-ORIGINAL-URL:https://liverpooldsa.co.uk
X-WR-CALDESC:Events for Liverpool Disabled Supporters Association
REFRESH-INTERVAL;VALUE=DURATION:PT1H
X-Robots-Tag:noindex
X-PUBLISHED-TTL:PT1H
BEGIN:VTIMEZONE
TZID:Europe/London
BEGIN:DAYLIGHT
TZOFFSETFROM:+0000
TZOFFSETTO:+0100
TZNAME:BST
DTSTART:20190331T010000
END:DAYLIGHT
BEGIN:STANDARD
TZOFFSETFROM:+0100
TZOFFSETTO:+0000
TZNAME:GMT
DTSTART:20191027T010000
END:STANDARD
BEGIN:DAYLIGHT
TZOFFSETFROM:+0000
TZOFFSETTO:+0100
TZNAME:BST
DTSTART:20200329T010000
END:DAYLIGHT
BEGIN:STANDARD
TZOFFSETFROM:+0100
TZOFFSETTO:+0000
TZNAME:GMT
DTSTART:20201025T010000
END:STANDARD
BEGIN:DAYLIGHT
TZOFFSETFROM:+0000
TZOFFSETTO:+0100
TZNAME:BST
DTSTART:20210328T010000
END:DAYLIGHT
BEGIN:STANDARD
TZOFFSETFROM:+0100
TZOFFSETTO:+0000
TZNAME:GMT
DTSTART:20211031T010000
END:STANDARD
END:VTIMEZONE
BEGIN:VEVENT
DTSTART;TZID=Europe/London:20201112T190000
DTEND;TZID=Europe/London:20201112T200000
DTSTAMP:20260422T133132
CREATED:20200917T174603Z
LAST-MODIFIED:20200917T174603Z
UID:5113-1605207600-1605211200@liverpooldsa.co.uk
SUMMARY:Physical Impairment Football Session (age 14+)
DESCRIPTION:For full details visit the LFC Foundation website. Please note it is essential that you book prior to your session.
URL:https://liverpooldsa.co.uk/event_details/physical-impairment-football-session-2020-11-12/
LOCATION:Anfield Sports and Community Centre\, Lower Breck Road\, Liverpool\, Merseyside\, L6 0AE\, United Kingdom
CATEGORIES:LFC Foundation Event
ATTACH;FMTTYPE=image/jpeg:https://liverpooldsa.co.uk/wp-content/uploads/2020/02/foundation.jpg
END:VEVENT
BEGIN:VEVENT
DTSTART;TZID=Europe/London:20201112T180000
DTEND;TZID=Europe/London:20201112T190000
DTSTAMP:20260422T133132
CREATED:20200917T174446Z
LAST-MODIFIED:20200917T174446Z
UID:5100-1605204000-1605207600@liverpooldsa.co.uk
SUMMARY:Open Disability Session (ages 5-8)
DESCRIPTION:For full details visit the LFC Foundation website. Please note it is essential that you book prior to your session.
URL:https://liverpooldsa.co.uk/event_details/open-disability-session-ages-5-8-2020-11-12/
LOCATION:Anfield Sports and Community Centre\, Lower Breck Road\, Liverpool\, Merseyside\, L6 0AE\, United Kingdom
CATEGORIES:LFC Foundation Event
ATTACH;FMTTYPE=image/jpeg:https://liverpooldsa.co.uk/wp-content/uploads/2020/02/foundation.jpg
END:VEVENT
BEGIN:VEVENT
DTSTART;TZID=Europe/London:20201110T190000
DTEND;TZID=Europe/London:20201110T200000
DTSTAMP:20260422T133132
CREATED:20200917T174254Z
LAST-MODIFIED:20200917T174254Z
UID:5087-1605034800-1605038400@liverpooldsa.co.uk
SUMMARY:Learning Disability Football (age 16+)
DESCRIPTION:For full details visit the LFC Foundation website. Please note it is essential that you book prior to your session.
URL:https://liverpooldsa.co.uk/event_details/learning-disability-football-age-16-2020-11-10/
LOCATION:Anfield Sports and Community Centre\, Lower Breck Road\, Liverpool\, Merseyside\, L6 0AE\, United Kingdom
CATEGORIES:LFC Foundation Event
ATTACH;FMTTYPE=image/jpeg:https://liverpooldsa.co.uk/wp-content/uploads/2020/02/foundation.jpg
END:VEVENT
BEGIN:VEVENT
DTSTART;TZID=Europe/London:20201110T180000
DTEND;TZID=Europe/London:20201110T190000
DTSTAMP:20260422T133132
CREATED:20200917T174118Z
LAST-MODIFIED:20200917T174118Z
UID:5074-1605031200-1605034800@liverpooldsa.co.uk
SUMMARY:Learning Disability Football (ages 8-16)
DESCRIPTION:For full details visit the LFC Foundation website. Please note it is essential that you book prior to your session.
URL:https://liverpooldsa.co.uk/event_details/learning-disability-football-ages-8-16-2020-11-10/
LOCATION:Anfield Sports and Community Centre\, Lower Breck Road\, Liverpool\, Merseyside\, L6 0AE\, United Kingdom
CATEGORIES:LFC Foundation Event
ATTACH;FMTTYPE=image/jpeg:https://liverpooldsa.co.uk/wp-content/uploads/2020/02/foundation.jpg
END:VEVENT
BEGIN:VEVENT
DTSTART;TZID=Europe/London:20201109T200000
DTEND;TZID=Europe/London:20201109T210000
DTSTAMP:20260422T133132
CREATED:20200917T173749Z
LAST-MODIFIED:20200917T173749Z
UID:5139-1604952000-1604955600@liverpooldsa.co.uk
SUMMARY:PAN Disability / Ability Counts Football (age 14+)
DESCRIPTION:For full details visit the LFC Foundation website. Please note it is essential that you book prior to your session.
URL:https://liverpooldsa.co.uk/event_details/pan-disability-ability-counts-football-age-14-2020-11-09/
LOCATION:Anfield Sports and Community Centre\, Lower Breck Road\, Liverpool\, Merseyside\, L6 0AE\, United Kingdom
CATEGORIES:LFC Foundation Event
ATTACH;FMTTYPE=image/jpeg:https://liverpooldsa.co.uk/wp-content/uploads/2020/02/foundation.jpg
END:VEVENT
BEGIN:VEVENT
DTSTART;TZID=Europe/London:20201109T180000
DTEND;TZID=Europe/London:20201109T190000
DTSTAMP:20260422T133132
CREATED:20200917T173529Z
LAST-MODIFIED:20200917T173529Z
UID:5048-1604944800-1604948400@liverpooldsa.co.uk
SUMMARY:PAN Disability / Ability Counts Football (ages 8-14)
DESCRIPTION:For full details visit the LFC Foundation website. Please note it is essential that you book prior to your session.
URL:https://liverpooldsa.co.uk/event_details/pan-disability-ability-counts-football-age-8-14-2020-11-09/
LOCATION:Anfield Sports and Community Centre\, Lower Breck Road\, Liverpool\, Merseyside\, L6 0AE\, United Kingdom
CATEGORIES:LFC Foundation Event
ATTACH;FMTTYPE=image/jpeg:https://liverpooldsa.co.uk/wp-content/uploads/2020/02/foundation.jpg
END:VEVENT
BEGIN:VEVENT
DTSTART;TZID=Europe/London:20201107T113000
DTEND;TZID=Europe/London:20201107T123000
DTSTAMP:20260422T133132
CREATED:20200917T175325Z
LAST-MODIFIED:20200917T175325Z
UID:5060-1604748600-1604752200@liverpooldsa.co.uk
SUMMARY:PAN Disability / Ability Counts Football (age 8+ including adults)
DESCRIPTION:For full details visit the LFC Foundation website. Please note it is essential that you book prior to your session.
URL:https://liverpooldsa.co.uk/event_details/pan-disability-ability-counts-football-age-8-including-adults-2020-11-07/
LOCATION:Woodchurch Sports Complex\, Carr Bridge Road\, Birkenhead\, Wirral\, CH49 8EU
CATEGORIES:LFC Foundation Event
ATTACH;FMTTYPE=image/jpeg:https://liverpooldsa.co.uk/wp-content/uploads/2020/02/foundation.jpg
END:VEVENT
BEGIN:VEVENT
DTSTART;TZID=Europe/London:20201107T103000
DTEND;TZID=Europe/London:20201107T113000
DTSTAMP:20260422T133132
CREATED:20200917T175122Z
LAST-MODIFIED:20200917T175122Z
UID:5151-1604745000-1604748600@liverpooldsa.co.uk
SUMMARY:Learning Disability Football (ages 6-16)
DESCRIPTION:For full details visit the LFC Foundation website. Please note it is essential that you book prior to your session.
URL:https://liverpooldsa.co.uk/event_details/learning-disability-football-ages-6-16-2020-11-07/
LOCATION:Woodchurch Sports Complex\, Carr Bridge Road\, Birkenhead\, Wirral\, CH49 8EU
CATEGORIES:LFC Foundation Event
ATTACH;FMTTYPE=image/jpeg:https://liverpooldsa.co.uk/wp-content/uploads/2020/02/foundation.jpg
END:VEVENT
BEGIN:VEVENT
DTSTART;TZID=Europe/London:20201106T180000
DTEND;TZID=Europe/London:20201106T190000
DTSTAMP:20260422T133132
CREATED:20200917T174759Z
LAST-MODIFIED:20200917T174759Z
UID:5125-1604685600-1604689200@liverpooldsa.co.uk
SUMMARY:Wheelchair Football Session (age 6+)
DESCRIPTION:For full details visit the LFC Foundation website. Please note it is essential that you book prior to your session.
URL:https://liverpooldsa.co.uk/event_details/wheelchair-football-session-age-6-2020-11-06/
LOCATION:Anfield Sports and Community Centre\, Lower Breck Road\, Liverpool\, Merseyside\, L6 0AE\, United Kingdom
CATEGORIES:LFC Foundation Event
ATTACH;FMTTYPE=image/jpeg:https://liverpooldsa.co.uk/wp-content/uploads/2020/02/foundation.jpg
END:VEVENT
BEGIN:VEVENT
DTSTART;TZID=Europe/London:20201105T190000
DTEND;TZID=Europe/London:20201105T200000
DTSTAMP:20260422T133132
CREATED:20200917T174603Z
LAST-MODIFIED:20200917T174603Z
UID:5112-1604602800-1604606400@liverpooldsa.co.uk
SUMMARY:Physical Impairment Football Session (age 14+)
DESCRIPTION:For full details visit the LFC Foundation website. Please note it is essential that you book prior to your session.
URL:https://liverpooldsa.co.uk/event_details/physical-impairment-football-session-2020-11-05/
LOCATION:Anfield Sports and Community Centre\, Lower Breck Road\, Liverpool\, Merseyside\, L6 0AE\, United Kingdom
CATEGORIES:LFC Foundation Event
ATTACH;FMTTYPE=image/jpeg:https://liverpooldsa.co.uk/wp-content/uploads/2020/02/foundation.jpg
END:VEVENT
BEGIN:VEVENT
DTSTART;TZID=Europe/London:20201105T180000
DTEND;TZID=Europe/London:20201105T190000
DTSTAMP:20260422T133132
CREATED:20200917T174446Z
LAST-MODIFIED:20200917T174446Z
UID:5099-1604599200-1604602800@liverpooldsa.co.uk
SUMMARY:Open Disability Session (ages 5-8)
DESCRIPTION:For full details visit the LFC Foundation website. Please note it is essential that you book prior to your session.
URL:https://liverpooldsa.co.uk/event_details/open-disability-session-ages-5-8-2020-11-05/
LOCATION:Anfield Sports and Community Centre\, Lower Breck Road\, Liverpool\, Merseyside\, L6 0AE\, United Kingdom
CATEGORIES:LFC Foundation Event
ATTACH;FMTTYPE=image/jpeg:https://liverpooldsa.co.uk/wp-content/uploads/2020/02/foundation.jpg
END:VEVENT
BEGIN:VEVENT
DTSTART;TZID=Europe/London:20201103T190000
DTEND;TZID=Europe/London:20201103T200000
DTSTAMP:20260422T133132
CREATED:20200917T174254Z
LAST-MODIFIED:20200917T174254Z
UID:5086-1604430000-1604433600@liverpooldsa.co.uk
SUMMARY:Learning Disability Football (age 16+)
DESCRIPTION:For full details visit the LFC Foundation website. Please note it is essential that you book prior to your session.
URL:https://liverpooldsa.co.uk/event_details/learning-disability-football-age-16-2020-11-03/
LOCATION:Anfield Sports and Community Centre\, Lower Breck Road\, Liverpool\, Merseyside\, L6 0AE\, United Kingdom
CATEGORIES:LFC Foundation Event
ATTACH;FMTTYPE=image/jpeg:https://liverpooldsa.co.uk/wp-content/uploads/2020/02/foundation.jpg
END:VEVENT
BEGIN:VEVENT
DTSTART;TZID=Europe/London:20201103T180000
DTEND;TZID=Europe/London:20201103T190000
DTSTAMP:20260422T133132
CREATED:20200917T174118Z
LAST-MODIFIED:20200917T174118Z
UID:5073-1604426400-1604430000@liverpooldsa.co.uk
SUMMARY:Learning Disability Football (ages 8-16)
DESCRIPTION:For full details visit the LFC Foundation website. Please note it is essential that you book prior to your session.
URL:https://liverpooldsa.co.uk/event_details/learning-disability-football-ages-8-16-2020-11-03/
LOCATION:Anfield Sports and Community Centre\, Lower Breck Road\, Liverpool\, Merseyside\, L6 0AE\, United Kingdom
CATEGORIES:LFC Foundation Event
ATTACH;FMTTYPE=image/jpeg:https://liverpooldsa.co.uk/wp-content/uploads/2020/02/foundation.jpg
END:VEVENT
BEGIN:VEVENT
DTSTART;TZID=Europe/London:20201102T200000
DTEND;TZID=Europe/London:20201102T210000
DTSTAMP:20260422T133132
CREATED:20200917T173749Z
LAST-MODIFIED:20200917T173749Z
UID:5138-1604347200-1604350800@liverpooldsa.co.uk
SUMMARY:PAN Disability / Ability Counts Football (age 14+)
DESCRIPTION:For full details visit the LFC Foundation website. Please note it is essential that you book prior to your session.
URL:https://liverpooldsa.co.uk/event_details/pan-disability-ability-counts-football-age-14-2020-11-02/
LOCATION:Anfield Sports and Community Centre\, Lower Breck Road\, Liverpool\, Merseyside\, L6 0AE\, United Kingdom
CATEGORIES:LFC Foundation Event
ATTACH;FMTTYPE=image/jpeg:https://liverpooldsa.co.uk/wp-content/uploads/2020/02/foundation.jpg
END:VEVENT
BEGIN:VEVENT
DTSTART;TZID=Europe/London:20201102T180000
DTEND;TZID=Europe/London:20201102T190000
DTSTAMP:20260422T133132
CREATED:20200917T173529Z
LAST-MODIFIED:20200917T173529Z
UID:5047-1604340000-1604343600@liverpooldsa.co.uk
SUMMARY:PAN Disability / Ability Counts Football (ages 8-14)
DESCRIPTION:For full details visit the LFC Foundation website. Please note it is essential that you book prior to your session.
URL:https://liverpooldsa.co.uk/event_details/pan-disability-ability-counts-football-age-8-14-2020-11-02/
LOCATION:Anfield Sports and Community Centre\, Lower Breck Road\, Liverpool\, Merseyside\, L6 0AE\, United Kingdom
CATEGORIES:LFC Foundation Event
ATTACH;FMTTYPE=image/jpeg:https://liverpooldsa.co.uk/wp-content/uploads/2020/02/foundation.jpg
END:VEVENT
BEGIN:VEVENT
DTSTART;TZID=Europe/London:20201031T113000
DTEND;TZID=Europe/London:20201031T123000
DTSTAMP:20260422T133132
CREATED:20200917T175325Z
LAST-MODIFIED:20201029T122106Z
UID:4457-1604143800-1604147400@liverpooldsa.co.uk
SUMMARY:PAN Disability / Ability Counts Football (age 8+ including adults)
DESCRIPTION:For full details visit the LFC Foundation website. Please note it is essential that you book prior to your session.
URL:https://liverpooldsa.co.uk/event_details/pan-disability-ability-counts-football-age-8-including-adults-2020-10-31/
LOCATION:Woodchurch Sports Complex\, Carr Bridge Road\, Birkenhead\, Wirral\, CH49 8EU
CATEGORIES:LFC Foundation Event
ATTACH;FMTTYPE=image/jpeg:https://liverpooldsa.co.uk/wp-content/uploads/2020/02/foundation.jpg
END:VEVENT
BEGIN:VEVENT
DTSTART;TZID=Europe/London:20201031T103000
DTEND;TZID=Europe/London:20201031T113000
DTSTAMP:20260422T133132
CREATED:20200917T175122Z
LAST-MODIFIED:20201029T122959Z
UID:4462-1604140200-1604143800@liverpooldsa.co.uk
SUMMARY:Learning Disability Football (ages 6-16)
DESCRIPTION:For full details visit the LFC Foundation website. Please note it is essential that you book prior to your session.
URL:https://liverpooldsa.co.uk/event_details/learning-disability-football-ages-6-16-2020-10-31/
LOCATION:Woodchurch Sports Complex\, Carr Bridge Road\, Birkenhead\, Wirral\, CH49 8EU
CATEGORIES:LFC Foundation Event
ATTACH;FMTTYPE=image/jpeg:https://liverpooldsa.co.uk/wp-content/uploads/2020/02/foundation.jpg
END:VEVENT
BEGIN:VEVENT
DTSTART;TZID=Europe/London:20201030T180000
DTEND;TZID=Europe/London:20201030T190000
DTSTAMP:20260422T133132
CREATED:20200917T174759Z
LAST-MODIFIED:20201029T122536Z
UID:4571-1604080800-1604084400@liverpooldsa.co.uk
SUMMARY:Wheelchair Football Session (age 6+)
DESCRIPTION:For full details visit the LFC Foundation website. Please note it is essential that you book prior to your session.
URL:https://liverpooldsa.co.uk/event_details/wheelchair-football-session-age-6-2020-10-30/
LOCATION:Anfield Sports and Community Centre\, Lower Breck Road\, Liverpool\, Merseyside\, L6 0AE\, United Kingdom
CATEGORIES:LFC Foundation Event
ATTACH;FMTTYPE=image/jpeg:https://liverpooldsa.co.uk/wp-content/uploads/2020/02/foundation.jpg
END:VEVENT
BEGIN:VEVENT
DTSTART;TZID=Europe/London:20201029T190000
DTEND;TZID=Europe/London:20201029T200000
DTSTAMP:20260422T133132
CREATED:20200917T174603Z
LAST-MODIFIED:20201029T122444Z
UID:4576-1603998000-1604001600@liverpooldsa.co.uk
SUMMARY:Physical Impairment Football Session (age 14+)
DESCRIPTION:For full details visit the LFC Foundation website. Please note it is essential that you book prior to your session.
URL:https://liverpooldsa.co.uk/event_details/physical-impairment-football-session-2020-10-29/
LOCATION:Anfield Sports and Community Centre\, Lower Breck Road\, Liverpool\, Merseyside\, L6 0AE\, United Kingdom
CATEGORIES:LFC Foundation Event
ATTACH;FMTTYPE=image/jpeg:https://liverpooldsa.co.uk/wp-content/uploads/2020/02/foundation.jpg
END:VEVENT
BEGIN:VEVENT
DTSTART;TZID=Europe/London:20201029T180000
DTEND;TZID=Europe/London:20201029T190000
DTSTAMP:20260422T133132
CREATED:20200917T174446Z
LAST-MODIFIED:20201029T122349Z
UID:4582-1603994400-1603998000@liverpooldsa.co.uk
SUMMARY:Open Disability Session (ages 5-8)
DESCRIPTION:For full details visit the LFC Foundation website. Please note it is essential that you book prior to your session.
URL:https://liverpooldsa.co.uk/event_details/open-disability-session-ages-5-8-2020-10-29/
LOCATION:Anfield Sports and Community Centre\, Lower Breck Road\, Liverpool\, Merseyside\, L6 0AE\, United Kingdom
CATEGORIES:LFC Foundation Event
ATTACH;FMTTYPE=image/jpeg:https://liverpooldsa.co.uk/wp-content/uploads/2020/02/foundation.jpg
END:VEVENT
BEGIN:VEVENT
DTSTART;TZID=Europe/London:20201027T190000
DTEND;TZID=Europe/London:20201027T200000
DTSTAMP:20260422T133132
CREATED:20200917T174254Z
LAST-MODIFIED:20201029T122231Z
UID:4587-1603825200-1603828800@liverpooldsa.co.uk
SUMMARY:Learning Disability Football (age 16+)
DESCRIPTION:For full details visit the LFC Foundation website. Please note it is essential that you book prior to your session.
URL:https://liverpooldsa.co.uk/event_details/learning-disability-football-age-16-2020-10-27/
LOCATION:Anfield Sports and Community Centre\, Lower Breck Road\, Liverpool\, Merseyside\, L6 0AE\, United Kingdom
CATEGORIES:LFC Foundation Event
ATTACH;FMTTYPE=image/jpeg:https://liverpooldsa.co.uk/wp-content/uploads/2020/02/foundation.jpg
END:VEVENT
BEGIN:VEVENT
DTSTART;TZID=Europe/London:20201027T180000
DTEND;TZID=Europe/London:20201027T190000
DTSTAMP:20260422T133132
CREATED:20200917T174118Z
LAST-MODIFIED:20201029T122155Z
UID:4592-1603821600-1603825200@liverpooldsa.co.uk
SUMMARY:Learning Disability Football (ages 8-16)
DESCRIPTION:For full details visit the LFC Foundation website. Please note it is essential that you book prior to your session.
URL:https://liverpooldsa.co.uk/event_details/learning-disability-football-ages-8-16-2020-10-27/
LOCATION:Anfield Sports and Community Centre\, Lower Breck Road\, Liverpool\, Merseyside\, L6 0AE\, United Kingdom
CATEGORIES:LFC Foundation Event
ATTACH;FMTTYPE=image/jpeg:https://liverpooldsa.co.uk/wp-content/uploads/2020/02/foundation.jpg
END:VEVENT
BEGIN:VEVENT
DTSTART;TZID=Europe/London:20201026T200000
DTEND;TZID=Europe/London:20201026T210000
DTSTAMP:20260422T133132
CREATED:20200917T173749Z
LAST-MODIFIED:20201029T122853Z
UID:4597-1603742400-1603746000@liverpooldsa.co.uk
SUMMARY:PAN Disability / Ability Counts Football (age 14+)
DESCRIPTION:For full details visit the LFC Foundation website. Please note it is essential that you book prior to your session.
URL:https://liverpooldsa.co.uk/event_details/pan-disability-ability-counts-football-age-14-2020-10-26/
LOCATION:Anfield Sports and Community Centre\, Lower Breck Road\, Liverpool\, Merseyside\, L6 0AE\, United Kingdom
CATEGORIES:LFC Foundation Event
ATTACH;FMTTYPE=image/jpeg:https://liverpooldsa.co.uk/wp-content/uploads/2020/02/foundation.jpg
END:VEVENT
BEGIN:VEVENT
DTSTART;TZID=Europe/London:20201026T180000
DTEND;TZID=Europe/London:20201026T190000
DTSTAMP:20260422T133132
CREATED:20200917T173529Z
LAST-MODIFIED:20201029T122010Z
UID:4602-1603735200-1603738800@liverpooldsa.co.uk
SUMMARY:PAN Disability / Ability Counts Football (ages 8-14)
DESCRIPTION:For full details visit the LFC Foundation website. Please note it is essential that you book prior to your session.
URL:https://liverpooldsa.co.uk/event_details/pan-disability-ability-counts-football-age-8-14-2020-10-26/
LOCATION:Anfield Sports and Community Centre\, Lower Breck Road\, Liverpool\, Merseyside\, L6 0AE\, United Kingdom
CATEGORIES:LFC Foundation Event
ATTACH;FMTTYPE=image/jpeg:https://liverpooldsa.co.uk/wp-content/uploads/2020/02/foundation.jpg
END:VEVENT
BEGIN:VEVENT
DTSTART;TZID=Europe/London:20201024T113000
DTEND;TZID=Europe/London:20201024T123000
DTSTAMP:20260422T133132
CREATED:20200917T175325Z
LAST-MODIFIED:20201029T122106Z
UID:4456-1603539000-1603542600@liverpooldsa.co.uk
SUMMARY:PAN Disability / Ability Counts Football (age 8+ including adults)
DESCRIPTION:For full details visit the LFC Foundation website. Please note it is essential that you book prior to your session.
URL:https://liverpooldsa.co.uk/event_details/pan-disability-ability-counts-football-age-8-including-adults-2020-10-24/
LOCATION:Woodchurch Sports Complex\, Carr Bridge Road\, Birkenhead\, Wirral\, CH49 8EU
CATEGORIES:LFC Foundation Event
ATTACH;FMTTYPE=image/jpeg:https://liverpooldsa.co.uk/wp-content/uploads/2020/02/foundation.jpg
END:VEVENT
BEGIN:VEVENT
DTSTART;TZID=Europe/London:20201024T103000
DTEND;TZID=Europe/London:20201024T113000
DTSTAMP:20260422T133132
CREATED:20200917T175122Z
LAST-MODIFIED:20201029T122959Z
UID:4461-1603535400-1603539000@liverpooldsa.co.uk
SUMMARY:Learning Disability Football (ages 6-16)
DESCRIPTION:For full details visit the LFC Foundation website. Please note it is essential that you book prior to your session.
URL:https://liverpooldsa.co.uk/event_details/learning-disability-football-ages-6-16-2020-10-24/
LOCATION:Woodchurch Sports Complex\, Carr Bridge Road\, Birkenhead\, Wirral\, CH49 8EU
CATEGORIES:LFC Foundation Event
ATTACH;FMTTYPE=image/jpeg:https://liverpooldsa.co.uk/wp-content/uploads/2020/02/foundation.jpg
END:VEVENT
BEGIN:VEVENT
DTSTART;TZID=Europe/London:20201023T180000
DTEND;TZID=Europe/London:20201023T190000
DTSTAMP:20260422T133132
CREATED:20200917T174759Z
LAST-MODIFIED:20201029T122535Z
UID:4570-1603476000-1603479600@liverpooldsa.co.uk
SUMMARY:Wheelchair Football Session (age 6+)
DESCRIPTION:For full details visit the LFC Foundation website. Please note it is essential that you book prior to your session.
URL:https://liverpooldsa.co.uk/event_details/wheelchair-football-session-age-6-2020-10-23/
LOCATION:Anfield Sports and Community Centre\, Lower Breck Road\, Liverpool\, Merseyside\, L6 0AE\, United Kingdom
CATEGORIES:LFC Foundation Event
ATTACH;FMTTYPE=image/jpeg:https://liverpooldsa.co.uk/wp-content/uploads/2020/02/foundation.jpg
END:VEVENT
BEGIN:VEVENT
DTSTART;TZID=Europe/London:20201022T190000
DTEND;TZID=Europe/London:20201022T200000
DTSTAMP:20260422T133132
CREATED:20200917T174603Z
LAST-MODIFIED:20201029T122444Z
UID:4575-1603393200-1603396800@liverpooldsa.co.uk
SUMMARY:Physical Impairment Football Session (age 14+)
DESCRIPTION:For full details visit the LFC Foundation website. Please note it is essential that you book prior to your session.
URL:https://liverpooldsa.co.uk/event_details/physical-impairment-football-session-2020-10-22/
LOCATION:Anfield Sports and Community Centre\, Lower Breck Road\, Liverpool\, Merseyside\, L6 0AE\, United Kingdom
CATEGORIES:LFC Foundation Event
ATTACH;FMTTYPE=image/jpeg:https://liverpooldsa.co.uk/wp-content/uploads/2020/02/foundation.jpg
END:VEVENT
BEGIN:VEVENT
DTSTART;TZID=Europe/London:20201022T180000
DTEND;TZID=Europe/London:20201022T190000
DTSTAMP:20260422T133132
CREATED:20200917T174446Z
LAST-MODIFIED:20201029T122349Z
UID:4581-1603389600-1603393200@liverpooldsa.co.uk
SUMMARY:Open Disability Session (ages 5-8)
DESCRIPTION:For full details visit the LFC Foundation website. Please note it is essential that you book prior to your session.
URL:https://liverpooldsa.co.uk/event_details/open-disability-session-ages-5-8-2020-10-22/
LOCATION:Anfield Sports and Community Centre\, Lower Breck Road\, Liverpool\, Merseyside\, L6 0AE\, United Kingdom
CATEGORIES:LFC Foundation Event
ATTACH;FMTTYPE=image/jpeg:https://liverpooldsa.co.uk/wp-content/uploads/2020/02/foundation.jpg
END:VEVENT
BEGIN:VEVENT
DTSTART;TZID=Europe/London:20201020T190000
DTEND;TZID=Europe/London:20201020T200000
DTSTAMP:20260422T133132
CREATED:20200917T174254Z
LAST-MODIFIED:20201029T122231Z
UID:4586-1603220400-1603224000@liverpooldsa.co.uk
SUMMARY:Learning Disability Football (age 16+)
DESCRIPTION:For full details visit the LFC Foundation website. Please note it is essential that you book prior to your session.
URL:https://liverpooldsa.co.uk/event_details/learning-disability-football-age-16-2020-10-20/
LOCATION:Anfield Sports and Community Centre\, Lower Breck Road\, Liverpool\, Merseyside\, L6 0AE\, United Kingdom
CATEGORIES:LFC Foundation Event
ATTACH;FMTTYPE=image/jpeg:https://liverpooldsa.co.uk/wp-content/uploads/2020/02/foundation.jpg
END:VEVENT
END:VCALENDAR